BEGIN:VCALENDAR
VERSION:2.0
PRODID:-//Cypress Street Pint &amp; Plate - ECPv6.15.20//NONSGML v1.0//EN
CALSCALE:GREGORIAN
METHOD:PUBLISH
X-ORIGINAL-URL:https://cypressatl.com
X-WR-CALDESC:Events for Cypress Street Pint &amp; Plate
REFRESH-INTERVAL;VALUE=DURATION:PT1H
X-Robots-Tag:noindex
X-PUBLISHED-TTL:PT1H
BEGIN:VTIMEZONE
TZID:America/New_York
BEGIN:DAYLIGHT
TZOFFSETFROM:-0500
TZOFFSETTO:-0400
TZNAME:EDT
DTSTART:20180311T070000
END:DAYLIGHT
BEGIN:STANDARD
TZOFFSETFROM:-0400
TZOFFSETTO:-0500
TZNAME:EST
DTSTART:20181104T060000
END:STANDARD
BEGIN:DAYLIGHT
TZOFFSETFROM:-0500
TZOFFSETTO:-0400
TZNAME:EDT
DTSTART:20190310T070000
END:DAYLIGHT
BEGIN:STANDARD
TZOFFSETFROM:-0400
TZOFFSETTO:-0500
TZNAME:EST
DTSTART:20191103T060000
END:STANDARD
BEGIN:DAYLIGHT
TZOFFSETFROM:-0500
TZOFFSETTO:-0400
TZNAME:EDT
DTSTART:20200308T070000
END:DAYLIGHT
BEGIN:STANDARD
TZOFFSETFROM:-0400
TZOFFSETTO:-0500
TZNAME:EST
DTSTART:20201101T060000
END:STANDARD
BEGIN:DAYLIGHT
TZOFFSETFROM:-0500
TZOFFSETTO:-0400
TZNAME:EDT
DTSTART:20210314T070000
END:DAYLIGHT
BEGIN:STANDARD
TZOFFSETFROM:-0400
TZOFFSETTO:-0500
TZNAME:EST
DTSTART:20211107T060000
END:STANDARD
BEGIN:DAYLIGHT
TZOFFSETFROM:-0500
TZOFFSETTO:-0400
TZNAME:EDT
DTSTART:20220313T070000
END:DAYLIGHT
BEGIN:STANDARD
TZOFFSETFROM:-0400
TZOFFSETTO:-0500
TZNAME:EST
DTSTART:20221106T060000
END:STANDARD
BEGIN:DAYLIGHT
TZOFFSETFROM:-0500
TZOFFSETTO:-0400
TZNAME:EDT
DTSTART:20230312T070000
END:DAYLIGHT
BEGIN:STANDARD
TZOFFSETFROM:-0400
TZOFFSETTO:-0500
TZNAME:EST
DTSTART:20231105T060000
END:STANDARD
BEGIN:DAYLIGHT
TZOFFSETFROM:-0500
TZOFFSETTO:-0400
TZNAME:EDT
DTSTART:20240310T070000
END:DAYLIGHT
BEGIN:STANDARD
TZOFFSETFROM:-0400
TZOFFSETTO:-0500
TZNAME:EST
DTSTART:20241103T060000
END:STANDARD
BEGIN:DAYLIGHT
TZOFFSETFROM:-0500
TZOFFSETTO:-0400
TZNAME:EDT
DTSTART:20250309T070000
END:DAYLIGHT
BEGIN:STANDARD
TZOFFSETFROM:-0400
TZOFFSETTO:-0500
TZNAME:EST
DTSTART:20251102T060000
END:STANDARD
END:VTIMEZONE
BEGIN:VEVENT
DTSTART;TZID=America/New_York:20240405T160000
DTEND;TZID=America/New_York:20240405T230000
DTSTAMP:20260423T140951
CREATED:20250212T193803Z
LAST-MODIFIED:20250212T193803Z
UID:4814-1712332800-1712358000@cypressatl.com
SUMMARY:404 Day
DESCRIPTION:Every year folks gather in Piedmont Park on 4/4 to celebrate Atlanta culture. We are going to keep the party goin on April 5th with Monday Night Brewing!\n\n·$4.04 Atlanta 404 Lager pints all day long \n·Free 404 pints from 4:04pm until 4:05pm \n·$10 Lemon pepper wings from 4:04pm until close \n·Monday Night Brewing swag
URL:https://cypressatl.com/event/404-day/
LOCATION:Cypress Pint & Plate\, 817 W Peachtree St NE\, Atlanta\, GA\, 30308\, United States
CATEGORIES:special
ATTACH;FMTTYPE=image/png:https://cypressatl.com/wp-content/uploads/404-Web.png
ORGANIZER;CN="Cypress Pint & Plate":MAILTO:cypresspintplate@gmail.com
END:VEVENT
BEGIN:VEVENT
DTSTART;VALUE=DATE:20240325
DTEND;VALUE=DATE:20240326
DTSTAMP:20260423T140952
CREATED:20250212T193803Z
LAST-MODIFIED:20250212T193803Z
UID:5637-1711324800-1711411199@cypressatl.com
SUMMARY:Bell's Oberon Day
DESCRIPTION:Bell’s Brewing is joining us to celebrate Oberon Day\, the annual launch of one of their best beers! \n 
URL:https://cypressatl.com/event/bells-oberon-day/
LOCATION:Cypress Pint & Plate\, 817 W Peachtree St NE\, Atlanta\, GA\, 30308\, United States
CATEGORIES:special
ATTACH;FMTTYPE=image/png:https://cypressatl.com/wp-content/uploads/Oberon-Web.png
ORGANIZER;CN="Cypress Pint & Plate":MAILTO:cypresspintplate@gmail.com
END:VEVENT
BEGIN:VEVENT
DTSTART;TZID=America/New_York:20190824T100000
DTEND;TZID=America/New_York:20190824T220000
DTSTAMP:20260423T140952
CREATED:20250212T193803Z
LAST-MODIFIED:20250212T193803Z
UID:2800-1566640800-1566684000@cypressatl.com
SUMMARY:Pig Roast 2019
DESCRIPTION:Get excited for the TWELFTH Annual Pig Roast. There’ll be tents\, a Sweetwater beer truck\, live music\, alcoholic popsicles (!!!!!)\, fireball\, raffle baskets\, and more. \nWe’ll smoke the pig overnight and be servin’ up BBQ plates the day of (in addition to our regular menu!) \nAdmission is free\, so come one come all.
URL:https://cypressatl.com/event/pig-roast-2019/
LOCATION:Cypress Pint & Plate\, 817 W Peachtree St NE\, Atlanta\, GA\, 30308\, United States
CATEGORIES:special
ORGANIZER;CN="Cypress Pint & Plate":MAILTO:cypresspintplate@gmail.com
END:VEVENT
END:VCALENDAR