BEGIN:VCALENDAR
VERSION:2.0
PRODID:-//Cypress Street Pint &amp; Plate - ECPv6.15.20//NONSGML v1.0//EN
CALSCALE:GREGORIAN
METHOD:PUBLISH
X-ORIGINAL-URL:https://cypressatl.com
X-WR-CALDESC:Events for Cypress Street Pint &amp; Plate
REFRESH-INTERVAL;VALUE=DURATION:PT1H
X-Robots-Tag:noindex
X-PUBLISHED-TTL:PT1H
BEGIN:VTIMEZONE
TZID:America/New_York
BEGIN:DAYLIGHT
TZOFFSETFROM:-0500
TZOFFSETTO:-0400
TZNAME:EDT
DTSTART:20170312T070000
END:DAYLIGHT
BEGIN:STANDARD
TZOFFSETFROM:-0400
TZOFFSETTO:-0500
TZNAME:EST
DTSTART:20171105T060000
END:STANDARD
BEGIN:DAYLIGHT
TZOFFSETFROM:-0500
TZOFFSETTO:-0400
TZNAME:EDT
DTSTART:20180311T070000
END:DAYLIGHT
BEGIN:STANDARD
TZOFFSETFROM:-0400
TZOFFSETTO:-0500
TZNAME:EST
DTSTART:20181104T060000
END:STANDARD
BEGIN:DAYLIGHT
TZOFFSETFROM:-0500
TZOFFSETTO:-0400
TZNAME:EDT
DTSTART:20190310T070000
END:DAYLIGHT
BEGIN:STANDARD
TZOFFSETFROM:-0400
TZOFFSETTO:-0500
TZNAME:EST
DTSTART:20191103T060000
END:STANDARD
BEGIN:DAYLIGHT
TZOFFSETFROM:-0500
TZOFFSETTO:-0400
TZNAME:EDT
DTSTART:20200308T070000
END:DAYLIGHT
BEGIN:STANDARD
TZOFFSETFROM:-0400
TZOFFSETTO:-0500
TZNAME:EST
DTSTART:20201101T060000
END:STANDARD
END:VTIMEZONE
BEGIN:VTIMEZONE
TZID:UTC
BEGIN:STANDARD
TZOFFSETFROM:+0000
TZOFFSETTO:+0000
TZNAME:UTC
DTSTART:20170101T000000
END:STANDARD
END:VTIMEZONE
BEGIN:VEVENT
DTSTART;TZID=America/New_York:20190824T100000
DTEND;TZID=America/New_York:20190824T220000
DTSTAMP:20260423T114422
CREATED:20250212T193803Z
LAST-MODIFIED:20250212T193803Z
UID:2800-1566640800-1566684000@cypressatl.com
SUMMARY:Pig Roast 2019
DESCRIPTION:Get excited for the TWELFTH Annual Pig Roast. There’ll be tents\, a Sweetwater beer truck\, live music\, alcoholic popsicles (!!!!!)\, fireball\, raffle baskets\, and more. \nWe’ll smoke the pig overnight and be servin’ up BBQ plates the day of (in addition to our regular menu!) \nAdmission is free\, so come one come all.
URL:https://cypressatl.com/event/pig-roast-2019/
LOCATION:Cypress Pint & Plate\, 817 W Peachtree St NE\, Atlanta\, GA\, 30308\, United States
CATEGORIES:special
ORGANIZER;CN="Cypress Pint & Plate":MAILTO:cypresspintplate@gmail.com
END:VEVENT
BEGIN:VEVENT
DTSTART;TZID=UTC:20181222T100000
DTEND;TZID=UTC:20181223T140000
DTSTAMP:20260423T114422
CREATED:20250212T193803Z
LAST-MODIFIED:20250212T193803Z
UID:1592-1545472800-1545573600@cypressatl.com
SUMMARY:Weekend Brunch
DESCRIPTION:Weekend Brunch is served every Saturday & Sunday from 10am-2pm. \n  \nCOCKTAILS\nCYPRESS MIMOSA \nsparkling wine\, orange juice | 3 \nCYPRESS BLOODY MARY \nhouse vodka\, charleston bloody mary mix | 7 \nGRAND MIMOSA \nsparkling wine\, grand ma\, pama\, orange juice | 6 \nICED IRISH COFFEE \njameson\, guinness\, coffee | 10 \nIRISH BREAKFAST \njameson\, buttershots\, orange juice\, bacon | 7 \nLEFT COAST BLOODY MARY \nst. george green chile vodka\, charleston bloody mary mix\, IPA float | 9 \nENTREES\nServed with hand-cut fries\, fruit\, grits\, or hash browns. To substitute another side add $1. \nCHICKEN BISCUIT* \nfried egg\, fried chicken\, spicy bacon jam\, choice of side | 11 \nCYPRESS FRITTATA \nyour choice of vegetable or ham and cheese\, choice of side | 10 \nSMOKED SALMON CAKES BENEDICT \nsmoked salmon cakes\, poached eggs\, english muffin\, classic hollandaise | 13 \nCYPRESS STREET BREAKFAST* \neggs any style\, bacon\, biscuit\, choice of side | 9 \nA LA CARTE\nBREAKFAST BURRITO \nfried egg\, fried chicken\, spicy bacon jam\, choice of side | 11 \nCHILAQUILES* \nsunny-side up eggs\, cotija\, spicy braised chicken\, sour cream\, pico de gallo\, avocado\, salsa verde | 10 \nBREAKFAST QUESADILLA \nscrambled eggs\, monterey jack\, ham\, pineapple guacamole\, red pepper crema | 11 \nBREAKFAST EGGROLLS \nscrambled eggs\, cheddar cheese\, sausage\, sriracha syrup | 9 \nSIDES\nFresh-Cut Fries | Sweet Potato Fries | Porter Mac ‘n’ Cheese | Hash Browns | Jalapeno Slaw | Creamy Stone-Ground Grits | Bacon  | Sausage | Collards |\nFresh Fruit with Granola and Plain Yogurt | Broccoli with Beer Cheese | 4 each
URL:https://cypressatl.com/event/weekend-brunch-2018-12-22/
LOCATION:GA
END:VEVENT
BEGIN:VEVENT
DTSTART;TZID=UTC:20180825T110000
DTEND;TZID=UTC:20180825T200000
DTSTAMP:20260423T114422
CREATED:20250212T193803Z
LAST-MODIFIED:20250212T193803Z
UID:2150-1535194800-1535227200@cypressatl.com
SUMMARY:Pig Roast 2018
DESCRIPTION:Who’s ready for our annual Pig Roast?! We’ll have tents\, a Sweetwater beer truck\, live music\, corn hole\, raffle tickets\, giveaways\, and more. \nWe’ll smoke the pig overnight and be servin’ up BBQ plates the day of (in addition to our regular menu!) \nAdmission is free\, so come one come all.
URL:https://cypressatl.com/event/pig-roast-2018/
LOCATION:Cypress Pint & Plate\, 817 W Peachtree St NE\, Atlanta\, GA\, 30308\, United States
ORGANIZER;CN="Cypress Pint & Plate":MAILTO:cypresspintplate@gmail.com
END:VEVENT
BEGIN:VEVENT
DTSTART;TZID=UTC:20180520T120000
DTEND;TZID=UTC:20180520T160000
DTSTAMP:20260423T114422
CREATED:20250212T193803Z
LAST-MODIFIED:20250212T193804Z
UID:1945-1526817600-1526832000@cypressatl.com
SUMMARY:When Life Gives You Lemons: Charity Event
DESCRIPTION:Partnering with: The Giving Kitchen\, Sweetwater Brewery and Belle Isle Moonshine\nA portion of the proceeds will go to The Giving Kitchen\n\n\nLemonade stand at the front entrance\nSpike the lemonade with Belle Isle Moonshine upon entry\nDog treats for our canine guests.\nHot dog and hamburger specials\nLive music from 12pm to 4pm\nRaffle gift basket giveaway with proceeds from tickets going to The Giving Kitchen
URL:https://cypressatl.com/event/when-life-gives-you-lemons-charity-event/
LOCATION:GA
END:VEVENT
BEGIN:VEVENT
DTSTART;VALUE=DATE:20180505
DTEND;VALUE=DATE:20180506
DTSTAMP:20260423T114422
CREATED:20250212T193804Z
LAST-MODIFIED:20250212T193804Z
UID:1949-1525478400-1525564799@cypressatl.com
SUMMARY:Cinco de Mayo
DESCRIPTION:Dos Equis and Dos Equis Amber on tap\nCorona Bucket Specials\n$5 Margaritas\nChorizo Queso App Special\nPatio extended under tents\nLive music from Mandy Strachota 6-10pm
URL:https://cypressatl.com/event/cinco-de-mayo/
LOCATION:GA
ATTACH;FMTTYPE=image/jpeg:https://cypressatl.com/wp-content/uploads/cinco.jpg
END:VEVENT
BEGIN:VEVENT
DTSTART;VALUE=DATE:20180409
DTEND;VALUE=DATE:20180410
DTSTAMP:20260423T114422
CREATED:20250212T193804Z
LAST-MODIFIED:20250212T193804Z
UID:985-1523232000-1523318399@cypressatl.com
SUMMARY:Monday $2 Tacos
DESCRIPTION:Tacos are $2 all day long with the purchase of a beverage
URL:https://cypressatl.com/event/monday-2-tacos/
LOCATION:Cypress Pint & Plate\, 817 W Peachtree St NE\, Atlanta\, GA\, 30308\, United States
ATTACH;FMTTYPE=image/jpeg:https://cypressatl.com/wp-content/uploads/tacos.jpg
END:VEVENT
BEGIN:VEVENT
DTSTART;TZID=America/New_York:20180407T100000
DTEND;TZID=America/New_York:20180408T140000
DTSTAMP:20260423T114422
CREATED:20250212T193804Z
LAST-MODIFIED:20250212T193804Z
UID:998-1523095200-1523196000@cypressatl.com
SUMMARY:Weekend Brunch
DESCRIPTION:Weekend Brunch is served every Saturday & Sunday from 10am-2pm. \n  \nCOCKTAILS\nCYPRESS MIMOSA \nsparkling wine\, orange juice | 3 \nCYPRESS BLOODY MARY \nhouse vodka\, charleston bloody mary mix | 7 \nGRAND MIMOSA \nsparkling wine\, grand ma\, pama\, orange juice | 6 \nICED IRISH COFFEE \njameson\, guinness\, coffee | 10 \nIRISH BREAKFAST \njameson\, buttershots\, orange juice\, bacon | 7 \nLEFT COAST BLOODY MARY \nst. george green chile vodka\, charleston bloody mary mix\, IPA float | 9 \nENTREES\nServed with hand-cut fries\, fruit\, grits\, or hash browns. To substitute another side add $1. \nCHICKEN BISCUIT* \nfried egg\, fried chicken\, spicy bacon jam\, choice of side | 11 \nCYPRESS FRITTATA \nyour choice of vegetable or ham and cheese\, choice of side | 10 \nSMOKED SALMON CAKES BENEDICT \nsmoked salmon cakes\, poached eggs\, english muffin\, classic hollandaise | 13 \nCYPRESS STREET BREAKFAST* \neggs any style\, bacon\, biscuit\, choice of side | 9 \nA LA CARTE\nBREAKFAST BURRITO \nfried egg\, fried chicken\, spicy bacon jam\, choice of side | 11 \nCHILAQUILES* \nsunny-side up eggs\, cotija\, spicy braised chicken\, sour cream\, pico de gallo\, avocado\, salsa verde | 10 \nBREAKFAST QUESADILLA \nscrambled eggs\, monterey jack\, ham\, pineapple guacamole\, red pepper crema | 11 \nBREAKFAST EGGROLLS \nscrambled eggs\, cheddar cheese\, sausage\, sriracha syrup | 9 \nSIDES\nFresh-Cut Fries | Sweet Potato Fries | Porter Mac ‘n’ Cheese | Hash Browns | Jalapeno Slaw | Creamy Stone-Ground Grits | Bacon  | Sausage | Collards |\nFresh Fruit with Granola and Plain Yogurt | Broccoli with Beer Cheese | 4 each
URL:https://cypressatl.com/event/weekend-brunch/
LOCATION:Cypress Pint & Plate\, 817 W Peachtree St NE\, Atlanta\, GA\, 30308\, United States
ATTACH;FMTTYPE=image/jpeg:https://cypressatl.com/wp-content/uploads/new-brunch-event.jpg
ORGANIZER;CN="Cypress Pint & Plate":MAILTO:cypresspintplate@gmail.com
END:VEVENT
BEGIN:VEVENT
DTSTART;TZID=UTC:20180402T170000
DTEND;TZID=UTC:20180406T190000
DTSTAMP:20260423T114422
CREATED:20250212T193804Z
LAST-MODIFIED:20250212T193804Z
UID:996-1522688400-1523041200@cypressatl.com
SUMMARY:Weekday Half Off Apps
DESCRIPTION:Every weekday from 5-7PM \napps included in special: \nSEASONAL SOUP \nPUB FRIES \nhand-cut fries\, parmesan\, spicy mayo\, truffle mayo \nSWEETWATER-FRIED MUSHROOMS  \nsweetwater beer-battered mushrooms\, creole mustard mayo\, spicy mayo \nBLACK BEAN HUMMUS  \nroasted red pepper\, rainbow baby carrots\, cucumbers\, feta\, arugula pesto\, pita bread \nPULLED CHICKEN QUESADILLA \nmonterey jack\, guacamole\, pico de gallo\, jalapeno crema
URL:https://cypressatl.com/event/half-off-apps/
LOCATION:Cypress Pint & Plate\, 817 W Peachtree St NE\, Atlanta\, GA\, 30308\, United States
ATTACH;FMTTYPE=image/jpeg:https://cypressatl.com/wp-content/uploads/Half-off-Apps.jpg
END:VEVENT
BEGIN:VEVENT
DTSTART;TZID=UTC:20180401T100000
DTEND;TZID=UTC:20180401T160000
DTSTAMP:20260423T114422
CREATED:20250212T193804Z
LAST-MODIFIED:20250212T193804Z
UID:955-1522576800-1522598400@cypressatl.com
SUMMARY:Easter Egg Hunt
DESCRIPTION:We’re hosting an adult friendly Easter Egg Hunt! Prizes in the eggs will include candy\, gift cards\, cypress shirts and free appetizers. \nThere will be a Deviled Egg Special and our featured beer will be Evil Twin “Even More Jesus”
URL:https://cypressatl.com/event/easter-egg-hunt/
LOCATION:GA
END:VEVENT
BEGIN:VEVENT
DTSTART;TZID=UTC:20180326T170000
DTEND;TZID=UTC:20180327T170000
DTSTAMP:20260423T114422
CREATED:20250212T193804Z
LAST-MODIFIED:20250212T193804Z
UID:953-1522083600-1522170000@cypressatl.com
SUMMARY:Bell's Oberon Release Party
DESCRIPTION:
URL:https://cypressatl.com/event/bells-oberon-release-party/
LOCATION:GA
ATTACH;FMTTYPE=image/png:https://cypressatl.com/wp-content/uploads/bells-o-photo-background-1.png
END:VEVENT
END:VCALENDAR